BEGIN:VCALENDAR
VERSION:2.0
PRODID:-//ChamberMaster//Event Calendar 2.0//EN
METHOD:PUBLISH
X-PUBLISHED-TTL:P3D
REFRESH-INTERVAL:P3D
CALSCALE:GREGORIAN
BEGIN:VEVENT
DTSTART;VALUE=DATE:20150608
DTEND;VALUE=DATE:20150609
TRANSP:TRANSPARENT
X-MICROSOFT-CDO-ALLDAYEVENT:TRUE
SUMMARY:13th Annual Dan Macumber Memorial JA Golf Tournament
DESCRIPTION:Join us to celebrate the loving memory of our dear friend!
X-ALT-DESC;FMTTYPE=text/html:Join us to celebrate the loving memory of our dear friend!<br />\n&nbsp\;
LOCATION:Springbrook Country Club 2122 17th Ave. DeWitt\, IA
UID:e.1774.472
SEQUENCE:3
DTSTAMP:20260421T080030Z
URL:https://business.dewittiowa.org/events/details/13th-annual-dan-macumber-memorial-ja-golf-tournament-06-08-2015-472
END:VEVENT

END:VCALENDAR
