BEGIN:VCALENDAR
VERSION:2.0
PRODID:-//ChamberMaster//Event Calendar 2.0//EN
METHOD:PUBLISH
X-PUBLISHED-TTL:P3D
REFRESH-INTERVAL:P3D
CALSCALE:GREGORIAN
BEGIN:VEVENT
DTSTART;VALUE=DATE:20140712
DTEND;VALUE=DATE:20140713
TRANSP:TRANSPARENT
X-MICROSOFT-CDO-ALLDAYEVENT:TRUE
SUMMARY:16th Annual Low Moor Lions Lions Club Car Show
DESCRIPTION:Tractors\, Truck & Motorcycles Welcome\n\n50/50 Raffle\n\nDoor Prizes\n\nFood\n\nParade @ 11:00 AM\n\nFun For All\n\nRain or Shine
X-ALT-DESC;FMTTYPE=text/html:Tractors\, Truck &amp\; Motorcycles&nbsp\;Welcome<br />\n50/50 Raffle<br />\nDoor Prizes<br />\nFood<br />\nParade @ 11:00 AM<br />\nFun For All<br />\nRain or Shine
LOCATION:3rd Ave. - 1/4 mile west of 4 way stop Low Moor\, IA
UID:e.1774.97
SEQUENCE:3
DTSTAMP:20260422T011432Z
URL:https://business.dewittiowa.org/events/details/16th-annual-low-moor-lions-lions-club-car-show-07-12-2014-97
END:VEVENT

END:VCALENDAR
