BEGIN:VCALENDAR
VERSION:2.0
PRODID:-//ChamberMaster//Event Calendar 2.0//EN
METHOD:PUBLISH
X-PUBLISHED-TTL:P3D
REFRESH-INTERVAL:P3D
CALSCALE:GREGORIAN
BEGIN:VEVENT
DTSTART;VALUE=DATE:20141205
DTEND;VALUE=DATE:20141206
TRANSP:TRANSPARENT
X-MICROSOFT-CDO-ALLDAYEVENT:TRUE
SUMMARY:2014 Farm Bill Meeting
DESCRIPTION:Topics include: Base reallocation\, yield updating\, price loss coverage (PLC)\, ag risk coverage (ARC)\, implications of PLC and ARC on participation in the Supplemental Coverage Option (SCO)\, daily margin protection program (MPP)\, non-insured crop disaster assistance program (NAP)
X-ALT-DESC;FMTTYPE=text/html:Topics include: Base reallocation\, yield updating\, price loss coverage (PLC)\, ag risk coverage (ARC)\, implications of PLC and ARC on participation in the Supplemental Coverage Option (SCO)\, daily margin protection program (MPP)\, non-insured crop disaster assistance program (NAP)
LOCATION:DeWitt Community Center 512 10th Street DeWitt\, IA 524742
UID:e.1774.220
SEQUENCE:3
DTSTAMP:20260421T185438Z
URL:https://business.dewittiowa.org/events/details/2014-farm-bill-meeting-12-05-2014-220
END:VEVENT

END:VCALENDAR
