BEGIN:VCALENDAR
VERSION:2.0
PRODID:-//ChamberMaster//Event Calendar 2.0//EN
METHOD:PUBLISH
X-PUBLISHED-TTL:P3D
REFRESH-INTERVAL:P3D
CALSCALE:GREGORIAN
BEGIN:VEVENT
DTSTART;VALUE=DATE:20160827
DTEND;VALUE=DATE:20160828
TRANSP:TRANSPARENT
X-MICROSOFT-CDO-ALLDAYEVENT:TRUE
SUMMARY:2016 Swingin' into Healtcare Charity Classic - DeWitt Community Hospital Foundation Golf Outing
DESCRIPTION:
X-ALT-DESC;FMTTYPE=text/html:
LOCATION:Springbrook Country Club
UID:e.1774.1289
SEQUENCE:3
DTSTAMP:20260420T093353Z
URL:https://business.dewittiowa.org/events/details/2016-swingin-into-healtcare-charity-classic-dewitt-community-hospital-foundation-golf-outing-08-27-2016-1289
END:VEVENT

END:VCALENDAR
