BEGIN:VCALENDAR
VERSION:2.0
PRODID:-//ChamberMaster//Event Calendar 2.0//EN
METHOD:PUBLISH
X-PUBLISHED-TTL:P3D
REFRESH-INTERVAL:P3D
CALSCALE:GREGORIAN
BEGIN:VEVENT
DTSTART:20170826T143000Z
DTEND:20170827T040000Z
X-MICROSOFT-CDO-ALLDAYEVENT:FALSE
SUMMARY:2017 Swingin' Into Healthcare Charity Classic -DeWitt Community Hospital Foundation
DESCRIPTION:Each year the DeWitt Community Hospital Foundation hosts one major event that raises money for the Foundation. The major event is Swingin' for Healthcare Charity Classic golf tournament. The event is unique and not only raises funds for the DeWitt Community Hospital Foundation\, but also raises awareness of the Foundation's initiatives.\n\nIf you are interested in participating or would like more information on sponsorships for 2017 or the tournament in general\, please contact Robin Krogman at 563-659-4233.
X-ALT-DESC;FMTTYPE=text/html:<p>Each year the DeWitt Community Hospital Foundation hosts one major event that raises money for the Foundation. The major event is <a href="http://www.genesishealth.com/facilities/hospital/dewitt/foundation/events/swinging-into-healthcare-charity-classic/">Swingin&#39\; for Healthcare Charity Classic</a> golf tournament. The event is unique and not only raises funds for the DeWitt Community Hospital Foundation\, but also raises awareness of the Foundation&#39\;s initiatives.</p>\n\n<p>If you are interested in participating or would like more information on sponsorships for 2017 or the tournament in general\, please <a href="http://www.genesishealth.com/facilities/hospital/dewitt/foundation/contact-us/">contact Robin Krogman</a> at 563-659-4233.</p>\n
LOCATION:Springbrook Country Club\, DeWitt\, IA
UID:e.1774.3159
SEQUENCE:3
DTSTAMP:20260419T153456Z
URL:https://business.dewittiowa.org/events/details/2017-swingin-into-healthcare-charity-classic-dewitt-community-hospital-foundation-3159
END:VEVENT

END:VCALENDAR
