BEGIN:VCALENDAR
VERSION:2.0
PRODID:-//ChamberMaster//Event Calendar 2.0//EN
METHOD:PUBLISH
X-PUBLISHED-TTL:P3D
REFRESH-INTERVAL:P3D
CALSCALE:GREGORIAN
BEGIN:VEVENT
DTSTART;VALUE=DATE:20140621
DTEND;VALUE=DATE:20140622
TRANSP:TRANSPARENT
X-MICROSOFT-CDO-ALLDAYEVENT:TRUE
SUMMARY:27th Annual Paul Skeffington Memorial Race
DESCRIPTION:5 mile\, 2 mile & Fun Run\n\n\n\nFor more details:\n\nFollow Skeff Race on Facebook\n\nVisit SkeffRace.com\n\nSign up at GetMeRegistered.com
X-ALT-DESC;FMTTYPE=text/html:5 mile\, 2 mile &amp\; Fun Run<br />\n<br />\nFor more details:<br />\nFollow Skeff Race on Facebook<br />\nVisit SkeffRace.com<br />\nSign up at GetMeRegistered.com<br />\n&nbsp\;
LOCATION:
UID:e.1774.11
SEQUENCE:3
DTSTAMP:20260422T030101Z
URL:https://business.dewittiowa.org/events/details/27th-annual-paul-skeffington-memorial-race-06-21-2014-11
END:VEVENT

END:VCALENDAR
