BEGIN:VCALENDAR
VERSION:2.0
PRODID:-//ChamberMaster//Event Calendar 2.0//EN
METHOD:PUBLISH
X-PUBLISHED-TTL:P3D
REFRESH-INTERVAL:P3D
CALSCALE:GREGORIAN
BEGIN:VEVENT
DTSTART;VALUE=DATE:20150425
DTEND;VALUE=DATE:20150426
TRANSP:TRANSPARENT
X-MICROSOFT-CDO-ALLDAYEVENT:TRUE
SUMMARY:2nd Annual Blessing of the Bikes and Bike Show
DESCRIPTION:Sponsored by Cornerstone Assembly of God Church
X-ALT-DESC;FMTTYPE=text/html:<span style="line-height: 20.7999992370605px\;">Sponsored by Cornerstone&nbsp\;</span><span style="line-height: 20.7999992370605px\;">Assembly of God&nbsp\;</span><span style="line-height: 20.7999992370605px\;">Church</span>
LOCATION:2108 11th Street\, DeWitt\, Iowa
UID:e.1774.359
SEQUENCE:3
DTSTAMP:20260421T125152Z
URL:https://business.dewittiowa.org/events/details/2nd-annual-blessing-of-the-bikes-and-bike-show-04-25-2015-359
END:VEVENT

END:VCALENDAR
