BEGIN:VCALENDAR
VERSION:2.0
PRODID:-//ChamberMaster//Event Calendar 2.0//EN
METHOD:PUBLISH
X-PUBLISHED-TTL:P3D
REFRESH-INTERVAL:P3D
CALSCALE:GREGORIAN
BEGIN:VEVENT
DTSTART:20170917T183000Z
DTEND:20170917T220000Z
X-MICROSOFT-CDO-ALLDAYEVENT:FALSE
SUMMARY:2nd Annual Dodge Drugs Dodgeball Tournament
DESCRIPTION:The Camanche-DeWitt Coalition is hosting their 2nd Annual Dodge Drugs Dodgeball Tournament. Teams consist of 6 players and it's $30 per team. There are 3 categories: youth 12 & Under\, Teens 13-18\, & Adults & Corporate. Team Sign-In starts at 1:00 p.m. Register online by September 15 @ www.cdcoalition.org
X-ALT-DESC;FMTTYPE=text/html:The Camanche-DeWitt Coalition is hosting their 2nd Annual Dodge Drugs Dodgeball Tournament. Teams consist of 6 players and it&#39\;s $30 per team. There are 3 categories: youth 12 &amp\; Under\, Teens 13-18\, &amp\; Adults &amp\; Corporate. Team Sign-In starts at 1:00 p.m. Register online by September 15 @ www.cdcoalition.org
LOCATION:Central DeWitt High School Gym
UID:e.1774.4240
SEQUENCE:3
DTSTAMP:20260419T121409Z
URL:https://business.dewittiowa.org/events/details/2nd-annual-dodge-drugs-dodgeball-tournament-4240
END:VEVENT

END:VCALENDAR
