BEGIN:VCALENDAR
VERSION:2.0
PRODID:-//ChamberMaster//Event Calendar 2.0//EN
METHOD:PUBLISH
X-PUBLISHED-TTL:P3D
REFRESH-INTERVAL:P3D
CALSCALE:GREGORIAN
BEGIN:VEVENT
DTSTART:20170109T000000Z
DTEND:20170109T013000Z
X-MICROSOFT-CDO-ALLDAYEVENT:FALSE
SUMMARY:2nd Annual Lights Out @ Your Library
DESCRIPTION:Fun night at your library--the lights will be off so bring your flashlight (marked with your name please) or borrow one of ours. There will be games\, crafts and snacks and a light show that you will help create. All ages are welcome\; however\, children under 10 must be accompanied by a teen or adult. Reservations are appreciated but drop-ins are welcome and will be accepted through 3 p.m. that day. View the Lights Out at Your Library event on Facebook.
X-ALT-DESC;FMTTYPE=text/html:Fun night at your library--the lights will be off so bring your flashlight (marked with your name please) or borrow one of ours. There will be games\, crafts and snacks and a light show that you will help create. All ages are welcome\; however\, children under 10 must be accompanied by a teen or adult. Reservations are appreciated but drop-ins are welcome and will be accepted through 3 p.m. that day. <a href="https://www.facebook.com/events/1844182242462176/">View the Lights Out at Your Library event on Facebook.</a>
LOCATION:Frances Banta Waggoner Community Library 505 10th St. DeWitt\, IA
UID:e.1774.1733
SEQUENCE:3
DTSTAMP:20260420T013210Z
URL:https://business.dewittiowa.org/events/details/2nd-annual-lights-out-your-library-1733
END:VEVENT

END:VCALENDAR
