BEGIN:VCALENDAR
VERSION:2.0
PRODID:-//ChamberMaster//Event Calendar 2.0//EN
METHOD:PUBLISH
X-PUBLISHED-TTL:P3D
REFRESH-INTERVAL:P3D
CALSCALE:GREGORIAN
BEGIN:VEVENT
DTSTART:20170204T180000Z
DTEND:20170204T191500Z
X-MICROSOFT-CDO-ALLDAYEVENT:FALSE
SUMMARY:36th Annual B-rrry Scurry 4-Mile Run
DESCRIPTION:4-Mile Run/Walk
X-ALT-DESC;FMTTYPE=text/html:4-Mile Run/Walk
LOCATION:Clinton Community College 1000 Lincoln Boulevard Clinton\, IA 52732
UID:e.1774.1858
SEQUENCE:3
DTSTAMP:20260420T013715Z
URL:https://business.dewittiowa.org/events/details/36th-annual-b-rrry-scurry-4-mile-run-1858
END:VEVENT

END:VCALENDAR
