BEGIN:VCALENDAR
VERSION:2.0
PRODID:-//ChamberMaster//Event Calendar 2.0//EN
METHOD:PUBLISH
X-PUBLISHED-TTL:P3D
REFRESH-INTERVAL:P3D
CALSCALE:GREGORIAN
BEGIN:VEVENT
DTSTART:20170429T160000Z
DTEND:20170429T183000Z
X-MICROSOFT-CDO-ALLDAYEVENT:FALSE
SUMMARY:4th Annual Blessing of the Bikes and Bike Show
DESCRIPTION:Individual bike blessings are available from 11 - 1.  Group blessing is at 1:00. \n\n\n\nBike Show:  There will be 5 categories.  Public voting for each category and for Grand Champion.  Awards ceremony at 1:00\n\n\n\nFood stand on site.\n\n\n\nRain date is May 6
X-ALT-DESC;FMTTYPE=text/html:Individual bike blessings are available from 11 - 1.&nbsp\; Group blessing is at 1:00.&nbsp\;<br />\n<br />\nBike Show:&nbsp\; There will be 5 categories.&nbsp\; Public voting for each category and for Grand Champion.&nbsp\; Awards ceremony at 1:00<br />\n<br />\nFood stand on site.<br />\n<br />\nRain date is May 6<br />\n&nbsp\;
LOCATION:Cornerstone Assembly of God 2108 11th Street DeWitt\, Iowa 563.659.9944
UID:e.1774.2955
SEQUENCE:3
DTSTAMP:20260419T202553Z
URL:https://business.dewittiowa.org/events/details/4th-annual-blessing-of-the-bikes-and-bike-show-2955
END:VEVENT

END:VCALENDAR
