BEGIN:VCALENDAR
VERSION:2.0
PRODID:-//ChamberMaster//Event Calendar 2.0//EN
METHOD:PUBLISH
X-PUBLISHED-TTL:P3D
REFRESH-INTERVAL:P3D
CALSCALE:GREGORIAN
BEGIN:VEVENT
DTSTART:20170704T143000Z
DTEND:20170704T180000Z
X-MICROSOFT-CDO-ALLDAYEVENT:FALSE
SUMMARY:4th of July Picnic
DESCRIPTION:DeWitt Nite Lions Annual 4th of July picnic.\n\nFood\, chips & beverages\n\nSmilee's Ice Cream truck\n\nPoor Susan band playing 11 - 1\n\nDonations accepted for band
X-ALT-DESC;FMTTYPE=text/html:<div style="text-align: center\;">DeWitt Nite Lions Annual 4th of July picnic.</div>\n\n<div style="text-align: center\;">Food\, chips &amp\; beverages<br />\nSmilee&#39\;s Ice Cream truck<br />\nPoor Susan band&nbsp\;playing 11 - 1<br />\nDonations accepted for band</div>\n
LOCATION:Lincoln Park DeWitt\, IA
UID:e.1774.3141
SEQUENCE:3
DTSTAMP:20260419T153124Z
URL:https://business.dewittiowa.org/events/details/4th-of-july-picnic-3141
END:VEVENT

END:VCALENDAR
