BEGIN:VCALENDAR
VERSION:2.0
PRODID:-//ChamberMaster//Event Calendar 2.0//EN
METHOD:PUBLISH
X-PUBLISHED-TTL:P3D
REFRESH-INTERVAL:P3D
CALSCALE:GREGORIAN
BEGIN:VEVENT
DTSTART:20160915T140000Z
DTEND:20160918T000000Z
X-MICROSOFT-CDO-ALLDAYEVENT:FALSE
SUMMARY:5-Year Anniversary
DESCRIPTION:5-Year Anniversary\n\n Three-Day Customer Appreciation Event\n\n@ THE CROSSROADS Inspired Living & Garden Cafe\n\nThursday-Saturday\, Sept. 15-17\n\nNow Open 9:00 a.m.\n\nMorning Coffee * Pastries * Espresso Drinks\n\n Drawings * In-Store Specials * Refreshments\n\nOpen 'til 7:00 p.m. Sept. 15 & 16 * 3:00 p.m. Sept. 17
X-ALT-DESC;FMTTYPE=text/html:<div style="text-align: center\;"><span style="font-family:verdana"><font color="#ff8c00" face="Arial" size="5"><strong><span style="font-size:36px"><em>5-Year </em>Anniversary</span></strong></font><br />\n<span style="display:none">&nbsp\;</span><font face="Arial" size="5"><span style="color:rgb(128\, 0\, 0)">Three-Day Customer Appreciation Event</span><br />\n<span style="color:rgb(255\, 0\, 0)"><strong>@ THE CROSSROADS <em>Inspired Living </em>&amp\; Garden Cafe</strong></span><br />\n<strong><font color="#800000">Thursday-Saturday\, Sept. 15-17</font><br />\n<span style="color:rgb(255\, 140\, 0)">Now Open 9:00 a.m.<br />\nMorning Coffee *&nbsp\;Pastries * Espresso Drinks</span></strong><br />\n<span style="display:none">&nbsp\;</span><span style="color:rgb(128\, 0\, 0)">Drawings * In-Store Specials * Refreshments<br />\nOpen &#39\;til 7:00 p.m. Sept. 15 &amp\; 16 * 3:00 p.m. Sept. 17</span></font></span><br />\n<br />\n<br />\n&nbsp\;</div>\n
LOCATION:
UID:e.1774.1594
SEQUENCE:3
DTSTAMP:20260420T073619Z
URL:https://business.dewittiowa.org/events/details/5-year-anniversary-1594
END:VEVENT

END:VCALENDAR
