BEGIN:VCALENDAR
VERSION:2.0
PRODID:-//ChamberMaster//Event Calendar 2.0//EN
METHOD:PUBLISH
X-PUBLISHED-TTL:P3D
REFRESH-INTERVAL:P3D
CALSCALE:GREGORIAN
BEGIN:VEVENT
DTSTART:20170612T150000Z
DTEND:20170612T210000Z
X-MICROSOFT-CDO-ALLDAYEVENT:FALSE
SUMMARY:50th Anniversary Celebration
DESCRIPTION:Join us from 10AM-4PM at First Central State Bank in DeWitt\, Eldridge or LeClaire for cookies & carnations!\n\n\n\nA special 50th Anniversary Presentation will take place within our DeWitt lobby at 11AM\n\n\n\nFirst Central State Bank employees plan to THROWBACK 50 YEARS with themed 1967 attire! Historical images and documents will also be on display within our DeWitt lobby throughout the day.
X-ALT-DESC;FMTTYPE=text/html:<span style="background-color:rgb(255\, 255\, 255)\; color:rgb(75\, 79\, 86)\; font-family:helvetica\,arial\,sans-serif\; font-size:14px">Join us from 10AM-4PM at First Central State Bank in DeWitt\, Eldridge or LeClaire for cookies &amp\; carnations!</span><br />\n<br />\n<span style="background-color:rgb(255\, 255\, 255)\; color:rgb(75\, 79\, 86)\; font-family:helvetica\,arial\,sans-serif\; font-size:14px">A special 50th Anniversary Presentation will take place within our DeWitt lobby at 11AM</span><br />\n<br />\n<span style="background-color:rgb(255\, 255\, 255)\; color:rgb(75\, 79\, 86)\; font-family:helvetica\,arial\,sans-serif\; font-size:14px">First Central State Bank employees plan to THROWBACK 50 YEARS with themed 1967 attire! Historical images and documents will also be on display within our DeWitt lobby throughout the day.</span><br />\n&nbsp\;
LOCATION:First Central State Bank 914 6th Ave\, DeWitt\, Iowa 52742
UID:e.1774.3078
SEQUENCE:3
DTSTAMP:20260419T182328Z
URL:https://business.dewittiowa.org/events/details/50th-anniversary-celebration-3078
END:VEVENT

END:VCALENDAR
