BEGIN:VCALENDAR
VERSION:2.0
PRODID:-//ChamberMaster//Event Calendar 2.0//EN
METHOD:PUBLISH
X-PUBLISHED-TTL:P3D
REFRESH-INTERVAL:P3D
CALSCALE:GREGORIAN
BEGIN:VEVENT
DTSTART:20170630T160000Z
DTEND:20170630T190000Z
X-MICROSOFT-CDO-ALLDAYEVENT:FALSE
SUMMARY:50th Anniversary Celebration Lemonade Shakeups
DESCRIPTION:Celebrate 50 years in banking with us Friday\, June 30th at all our locations! June 30th DeWitt will be shakin' up fresh lemonade.\n\n\n\nAfter 50 Golden Years we wanted to share our excitement with all our loyal customers. Join us every Friday in June from 11-2 to celebrate this milestone!
X-ALT-DESC;FMTTYPE=text/html:<span style="background-color:rgb(255\, 255\, 255)\; color:rgb(75\, 79\, 86)\; font-family:helvetica\,arial\,sans-serif\; font-size:14px">Celebrate 50 years in banking with us Friday\, June 30th at all our locations!&nbsp\;</span><span style="background-color:rgb(255\, 255\, 255)\; color:rgb(75\, 79\, 86)\; font-family:helvetica\,arial\,sans-serif\; font-size:14px">June 30th DeWitt will be shakin&#39\; up fresh lemonade.</span><br />\n<br />\n<span style="background-color:rgb(255\, 255\, 255)\; color:rgb(75\, 79\, 86)\; font-family:helvetica\,arial\,sans-serif\; font-size:14px">After 50 Golden Years we wanted to share our excitement with all our loyal customers. Join us every Friday in June from 11-2 to celebrate this milestone!</span><br />\n<br />\n<br />\n&nbsp\;
LOCATION:First Central State Bank 914 6th Ave\, DeWitt\, Iowa 52742
UID:e.1774.3080
SEQUENCE:3
DTSTAMP:20260419T165408Z
URL:https://business.dewittiowa.org/events/details/50th-anniversary-celebration-lemonade-shakeups-3080
END:VEVENT

END:VCALENDAR
