BEGIN:VCALENDAR
VERSION:2.0
PRODID:-//ChamberMaster//Event Calendar 2.0//EN
METHOD:PUBLISH
X-PUBLISHED-TTL:P3D
REFRESH-INTERVAL:P3D
CALSCALE:GREGORIAN
BEGIN:VEVENT
DTSTART:20170609T160000Z
DTEND:20170609T190000Z
X-MICROSOFT-CDO-ALLDAYEVENT:FALSE
SUMMARY:50th Anniversary Celebration Root Beer Floats
DESCRIPTION:Celebrate 50 years in banking with us with root beer floats June 9th at all our locations! \n\n\n\nAfter 50 Golden Years we wanted to share our excitement with all our loyal customers. Join us every Friday in June from 11-2 to celebrate this milestone!
X-ALT-DESC;FMTTYPE=text/html:<span style="color:rgb(75\, 79\, 86)\; font-family:helvetica\,arial\,sans-serif\; font-size:14px">Celebrate 50 years in banking with us with root beer floats June 9th at all our locations!&nbsp\;</span><br />\n<br />\n<span style="color:rgb(75\, 79\, 86)\; font-family:helvetica\,arial\,sans-serif\; font-size:14px">After 50 Golden Years we wanted to share our excitement with all our loyal customers. Join us every Friday in June from 11-2 to celebrate this milestone!</span>
LOCATION:First Central State Bank 914 6th Avenue DeWitt\, IA
UID:e.1774.3076
SEQUENCE:3
DTSTAMP:20260419T165408Z
URL:https://business.dewittiowa.org/events/details/50th-anniversary-celebration-root-beer-floats-3076
END:VEVENT

END:VCALENDAR
