BEGIN:VCALENDAR
VERSION:2.0
PRODID:-//ChamberMaster//Event Calendar 2.0//EN
METHOD:PUBLISH
X-PUBLISHED-TTL:P3D
REFRESH-INTERVAL:P3D
CALSCALE:GREGORIAN
BEGIN:VEVENT
DTSTART:20160131T000000Z
DTEND:20160131T040000Z
X-MICROSOFT-CDO-ALLDAYEVENT:FALSE
SUMMARY:7th Annual JA Trivia Night
DESCRIPTION:7th Annual Junior Achievement Trivia Night. Games support Junior Achievement programs in the Central DeWitt\, St. Joseph\, and Cal-Wheat schools.
X-ALT-DESC;FMTTYPE=text/html:7th Annual Junior Achievement Trivia Night. Games support Junior Achievement programs in the Central DeWitt\, St. Joseph\, and Cal-Wheat schools.
LOCATION:Springbrook Country Club 2122 17th Ave. DeWitt\, IA 52742
UID:e.1774.1183
SEQUENCE:3
DTSTAMP:20260420T201351Z
URL:https://business.dewittiowa.org/events/details/7th-annual-ja-trivia-night-01-30-2016-1183
END:VEVENT

END:VCALENDAR
