BEGIN:VCALENDAR
VERSION:2.0
PRODID:-//ChamberMaster//Event Calendar 2.0//EN
METHOD:PUBLISH
X-PUBLISHED-TTL:P3D
REFRESH-INTERVAL:P3D
CALSCALE:GREGORIAN
BEGIN:VEVENT
DTSTART:20170929T000000Z
DTEND:20170929T020000Z
X-MICROSOFT-CDO-ALLDAYEVENT:FALSE
SUMMARY:7th Avenue Band
DESCRIPTION:Chris Rupp\, founder of Home Free\, returns to the CDPAC with his new band 7th Avenue Band!\n\n\n\nChris has collaborated with such artists as Kenny Rogers\, The Oak Ridge Boys\, Charlie Daniels\, Kira Isabella\, Taylor Davis\, Peter Hollens\, Nick Lachey\, Jewel\, Patrick Stump\, and Shawn Stockman. He also has released his own solo album of original music\, Shine\, as well as a collection of classical piano pieces. Read more about Chris and his new band here!
X-ALT-DESC;FMTTYPE=text/html:<p><span style="font-size:12px"><span style="font-family:arial\,helvetica\,sans-serif"><strong>Chris Rupp\, founder of Home Free\, returns to the CDPAC with his new band <a href="http://www.7thaveband.com">7th Avenue Band</a>!</strong><br />\n<br />\n<span style="background-color:rgb(255\, 255\, 255)">Chris has collaborated with such artists as Kenny Rogers\, The Oak Ridge Boys\, Charlie Daniels\, Kira Isabella\, Taylor Davis\, Peter Hollens\, Nick Lachey\, Jewel\, Patrick Stump\, and Shawn Stockman. He also has released his own solo album of original music\, Shine\, as well as a collection of classical piano pieces. Read more about Chris and his new band <a href="http://www.7thaveband.com">here</a>!</span></span></span><br />\n<br />\n&nbsp\;</p>\n
LOCATION:Central Dewitt Performing Arts Center 519 E. 11th Street DeWitt\, IA 52742
UID:e.1774.3116
SEQUENCE:3
DTSTAMP:20260419T133748Z
URL:https://business.dewittiowa.org/events/details/7th-avenue-band-3116
END:VEVENT

END:VCALENDAR
