BEGIN:VCALENDAR
VERSION:2.0
PRODID:-//ChamberMaster//Event Calendar 2.0//EN
METHOD:PUBLISH
X-PUBLISHED-TTL:P3D
REFRESH-INTERVAL:P3D
CALSCALE:GREGORIAN
BEGIN:VEVENT
DTSTART:20170627T220000Z
DTEND:20170627T230000Z
X-MICROSOFT-CDO-ALLDAYEVENT:FALSE
SUMMARY:A Family Program
DESCRIPTION:Jonathan May will perform his magic show in the band shell in Lincoln Park before Tunes in Town on Tuesday evening\, the 27th\, at 5:00.
X-ALT-DESC;FMTTYPE=text/html:Jonathan May will perform his magic show in the band shell in Lincoln Park before Tunes in Town on Tuesday evening\, the 27th\, at 5:00.
LOCATION:In the Lincoln Park band shell DeWitt\, IA
UID:e.1774.3138
SEQUENCE:3
DTSTAMP:20260419T164103Z
URL:https://business.dewittiowa.org/events/details/a-family-program-3138
END:VEVENT

END:VCALENDAR
