BEGIN:VCALENDAR
VERSION:2.0
PRODID:-//ChamberMaster//Event Calendar 2.0//EN
METHOD:PUBLISH
X-PUBLISHED-TTL:P3D
REFRESH-INTERVAL:P3D
CALSCALE:GREGORIAN
BEGIN:VEVENT
DTSTART:20160813T180000Z
DTEND:20160813T210000Z
X-MICROSOFT-CDO-ALLDAYEVENT:FALSE
SUMMARY:A Reception for Local Artist Maria Casad
DESCRIPTION:Local Artist Maria Casad will be at Emma Raes Antiques & Uniques August 13th from 1-4pm. All proceeds go to Humility of Mary Housing.
X-ALT-DESC;FMTTYPE=text/html:Local Artist Maria Casad will be at Emma Raes Antiques &amp\; Uniques August 13th from 1-4pm. All proceeds go to Humility of Mary Housing.&nbsp\;
LOCATION:Emma Rae's Antiques & Uniques 714 6th Ave. DeWitt IA
UID:e.1774.1523
SEQUENCE:3
DTSTAMP:20260420T094733Z
URL:https://business.dewittiowa.org/events/details/a-reception-for-local-artist-maria-casad-08-13-2016-1523
END:VEVENT

END:VCALENDAR
