BEGIN:VCALENDAR
VERSION:2.0
PRODID:-//ChamberMaster//Event Calendar 2.0//EN
METHOD:PUBLISH
X-PUBLISHED-TTL:P3D
REFRESH-INTERVAL:P3D
CALSCALE:GREGORIAN
BEGIN:VEVENT
DTSTART:20160703T233000Z
DTEND:20160704T001500Z
X-MICROSOFT-CDO-ALLDAYEVENT:FALSE
SUMMARY:A Red\, White and Blue Concert
DESCRIPTION:A community choir will sing patriotic music at the Central DeWitt Performing Arts Center on Sunday\, July 3\, at 6:30 p.m.  The choir is directed by Noah Cornelius and accompanied by Colleen Darland.  The event is sponsored by the DeWitt Area Fine Arts Foundation.  Admission is FREE.
X-ALT-DESC;FMTTYPE=text/html:A community choir will sing patriotic music at the Central DeWitt Performing Arts Center on Sunday\, July 3\, at 6:30 p.m.&nbsp\; The choir is directed by Noah Cornelius and accompanied by Colleen Darland.&nbsp\; The event is sponsored by the DeWitt Area Fine Arts Foundation.&nbsp\; Admission is FREE.
LOCATION:Central DeWitt Performing Arts Center 519 E. 11th Street DeWitt\, Iowa 52742
UID:e.1774.1403
SEQUENCE:3
DTSTAMP:20260420T121433Z
URL:https://business.dewittiowa.org/events/details/a-red-white-and-blue-concert-07-03-2016-1403
END:VEVENT

END:VCALENDAR
