BEGIN:VCALENDAR
VERSION:2.0
PRODID:-//ChamberMaster//Event Calendar 2.0//EN
METHOD:PUBLISH
X-PUBLISHED-TTL:P3D
REFRESH-INTERVAL:P3D
CALSCALE:GREGORIAN
BEGIN:VEVENT
DTSTART:20150627T150000Z
DTEND:20150627T170000Z
X-MICROSOFT-CDO-ALLDAYEVENT:FALSE
SUMMARY:A Summer Tea Luncheon & Accessorizing Event
DESCRIPTION:Hosted by Karen Bentrott & Laura Prichard. A mini-seminar on Fun & Helpful Accessorizing Tips that can add New Life to your existing wardrobe\, followed by a Specially Prepared Tea Luncheon. Wear Your Hat * Bring Friends * Enjoy! See www.crossroadsofdewitt.com for More Details & Bonus Information.
X-ALT-DESC;FMTTYPE=text/html:Hosted by Karen Bentrott &amp\; Laura Prichard. A mini-seminar on Fun &amp\; Helpful Accessorizing Tips that can add New Life to your existing wardrobe\, followed by a Specially Prepared Tea Luncheon. Wear Your Hat * Bring Friends * Enjoy! See www.crossroadsofdewitt.com for More Details &amp\; Bonus Information.
LOCATION:THE CROSSROADS Inspired Living & Garden Caf
UID:e.1774.495
SEQUENCE:3
DTSTAMP:20260421T075413Z
URL:https://business.dewittiowa.org/events/details/a-summer-tea-luncheon-accessorizing-event-06-27-2015-495
END:VEVENT

END:VCALENDAR
