BEGIN:VCALENDAR
VERSION:2.0
PRODID:-//ChamberMaster//Event Calendar 2.0//EN
METHOD:PUBLISH
X-PUBLISHED-TTL:P3D
REFRESH-INTERVAL:P3D
CALSCALE:GREGORIAN
BEGIN:VEVENT
DTSTART:20141116T000000Z
DTEND:20141116T050000Z
X-MICROSOFT-CDO-ALLDAYEVENT:FALSE
SUMMARY:Adam Beck Music at Springbrook
DESCRIPTION:
X-ALT-DESC;FMTTYPE=text/html:
LOCATION:Springbrook Country Club 2771 224th Street DeWitt\, IA
UID:e.1774.222
SEQUENCE:3
DTSTAMP:20260421T190235Z
URL:https://business.dewittiowa.org/events/details/adam-beck-music-at-springbrook-11-15-2014-222
END:VEVENT

END:VCALENDAR
