BEGIN:VCALENDAR
VERSION:2.0
PRODID:-//ChamberMaster//Event Calendar 2.0//EN
METHOD:PUBLISH
X-PUBLISHED-TTL:P3D
REFRESH-INTERVAL:P3D
CALSCALE:GREGORIAN
BEGIN:VEVENT
DTSTART:20160209T010000Z
DTEND:20160209T020000Z
X-MICROSOFT-CDO-ALLDAYEVENT:FALSE
SUMMARY:Adult Book Discussion Group
DESCRIPTION:Our adult book discussion group meets on the second Monday of the month: October - December and February - April. The book to be discussed February 8th is "I Am Malala: The Girl Who Stood Up for Education and Was Shot by the Taliban." Malala has written this memoir with journalist Christina Lamb. Malala's courage and determination and her thirst for education and reform are apparent in her book. Her story is astonishing!
X-ALT-DESC;FMTTYPE=text/html:Our adult book discussion group meets on the second Monday of the month: October - December and February - April. The book to be discussed February 8th is &quot\;I Am Malala: The Girl Who Stood Up for Education and Was Shot by the Taliban.&quot\; Malala has written this memoir with journalist Christina Lamb. Malala&#39\;s courage and determination and her thirst for education and reform are apparent in her book. Her story is astonishing!
LOCATION:Meeting Room Frances Banta Waggoner Community Library
UID:e.1774.1209
SEQUENCE:3
DTSTAMP:20260420T201612Z
URL:https://business.dewittiowa.org/events/details/adult-book-discussion-group-02-08-2016-1209
END:VEVENT

END:VCALENDAR
