BEGIN:VCALENDAR
VERSION:2.0
PRODID:-//ChamberMaster//Event Calendar 2.0//EN
METHOD:PUBLISH
X-PUBLISHED-TTL:P3D
REFRESH-INTERVAL:P3D
CALSCALE:GREGORIAN
BEGIN:VEVENT
DTSTART:20160320T180000Z
DTEND:20160320T210000Z
X-MICROSOFT-CDO-ALLDAYEVENT:FALSE
SUMMARY:Adult Color Craze Afternoon
DESCRIPTION:Join the fun\, relaxing\, creative world of Adult coloring at your library. We will provide coloring sheets\, coloring pens\, pencils\, and markers and light refreshments. This event is for adults only please. No reservations necessary.
X-ALT-DESC;FMTTYPE=text/html:Join the fun\, relaxing\, creative world of Adult coloring at your library. We will provide coloring sheets\, coloring pens\, pencils\, and markers and light refreshments. This event is for adults only please. No reservations necessary.
LOCATION:Frances Banta Waggoner Community Library 505 10th St. DeWitt
UID:e.1774.1258
SEQUENCE:3
DTSTAMP:20260420T171423Z
URL:https://business.dewittiowa.org/events/details/adult-color-craze-afternoon-03-20-2016-1258
END:VEVENT

END:VCALENDAR
