BEGIN:VCALENDAR
VERSION:2.0
PRODID:-//ChamberMaster//Event Calendar 2.0//EN
METHOD:PUBLISH
X-PUBLISHED-TTL:P3D
REFRESH-INTERVAL:P3D
CALSCALE:GREGORIAN
BEGIN:VEVENT
DTSTART:20170117T160000Z
DTEND:20170117T180000Z
X-MICROSOFT-CDO-ALLDAYEVENT:FALSE
SUMMARY:Adult Coloring
DESCRIPTION:Adult coloring is fun & relaxing. Your library provides the space\, materials and snacks or bring your own!  No reservations required. Adults only\, please.
X-ALT-DESC;FMTTYPE=text/html:Adult coloring is fun &amp\; relaxing. Your library provides the space\, materials and snacks or bring your own! &nbsp\;No reservations required. Adults only\, please.
LOCATION:Frances Banta Waggoner Community Library 505 10th St. DeWitt
UID:e.1774.1742
SEQUENCE:3
DTSTAMP:20260420T013647Z
URL:https://business.dewittiowa.org/events/details/adult-coloring-01-17-2017-1742
END:VEVENT

END:VCALENDAR
