BEGIN:VCALENDAR
VERSION:2.0
PRODID:-//ChamberMaster//Event Calendar 2.0//EN
METHOD:PUBLISH
X-PUBLISHED-TTL:P3D
REFRESH-INTERVAL:P3D
CALSCALE:GREGORIAN
BEGIN:VEVENT
DTSTART:20170124T000000Z
DTEND:20170124T020000Z
X-MICROSOFT-CDO-ALLDAYEVENT:FALSE
SUMMARY:Adult Coloring
DESCRIPTION:Join in the fun--adult coloring is creative and relaxing. All materials and snacks are provided. No reservations necessary. Adults only please.
X-ALT-DESC;FMTTYPE=text/html:Join in the fun--adult coloring is creative and relaxing. All materials and snacks are provided. No reservations necessary. Adults only please.
LOCATION:Frances Banta Waggoner Community Library 505 10th St. DeWitt
UID:e.1774.1743
SEQUENCE:3
DTSTAMP:20260420T030246Z
URL:https://business.dewittiowa.org/events/details/adult-coloring-01-23-2017-1743
END:VEVENT

END:VCALENDAR
