BEGIN:VCALENDAR
VERSION:2.0
PRODID:-//ChamberMaster//Event Calendar 2.0//EN
METHOD:PUBLISH
X-PUBLISHED-TTL:P3D
REFRESH-INTERVAL:P3D
CALSCALE:GREGORIAN
BEGIN:VEVENT
DTSTART:20170207T160000Z
DTEND:20170207T180000Z
X-MICROSOFT-CDO-ALLDAYEVENT:FALSE
SUMMARY:Adult Coloring
DESCRIPTION:Coloring sheets\, colored pencils and pens and snacks are provided or bring your own. No reservations are necessary and this event is adults only\, please.
X-ALT-DESC;FMTTYPE=text/html:Coloring sheets\, colored pencils and pens and snacks are provided or bring your own. No reservations are necessary and this event is adults only\, please.
LOCATION:Frances Banta Waggoner Community Library 505 10th St. DeWitt
UID:e.1774.1744
SEQUENCE:3
DTSTAMP:20260420T013648Z
URL:https://business.dewittiowa.org/events/details/adult-coloring-02-07-2017-1744
END:VEVENT

END:VCALENDAR
