BEGIN:VCALENDAR
VERSION:2.0
PRODID:-//ChamberMaster//Event Calendar 2.0//EN
METHOD:PUBLISH
X-PUBLISHED-TTL:P3D
REFRESH-INTERVAL:P3D
CALSCALE:GREGORIAN
BEGIN:VEVENT
DTSTART:20170221T160000Z
DTEND:20170221T180000Z
X-MICROSOFT-CDO-ALLDAYEVENT:FALSE
SUMMARY:Adult Coloring
DESCRIPTION:Adult coloring program at your library provides fun\, creativity\, relaxation and fellowship. All materials and snacks are provided and reservations are not necessary. Adults only\, please.
X-ALT-DESC;FMTTYPE=text/html:Adult coloring program at your library provides fun\, creativity\, relaxation and fellowship. All materials and snacks are provided and reservations are not necessary. Adults only\, please.
LOCATION:Frances Banta Waggoner Community Library 505 10th St DeWitt
UID:e.1774.1745
SEQUENCE:3
DTSTAMP:20260419T235141Z
URL:https://business.dewittiowa.org/events/details/adult-coloring-02-21-2017-1745
END:VEVENT

END:VCALENDAR
