BEGIN:VCALENDAR
VERSION:2.0
PRODID:-//ChamberMaster//Event Calendar 2.0//EN
METHOD:PUBLISH
X-PUBLISHED-TTL:P3D
REFRESH-INTERVAL:P3D
CALSCALE:GREGORIAN
BEGIN:VEVENT
DTSTART:20170307T160000Z
DTEND:20170307T180000Z
X-MICROSOFT-CDO-ALLDAYEVENT:FALSE
SUMMARY:Adult Coloring
DESCRIPTION:This free event is open to all adults. Coloring materials and snacks are provided. Come join the fun!
X-ALT-DESC;FMTTYPE=text/html:This free event is open to all adults. Coloring materials and snacks are provided. Come join the fun!
LOCATION:Frances Banta Waggoner Community Library 505 10th St. DeWitt
UID:e.1774.1748
SEQUENCE:3
DTSTAMP:20260419T235139Z
URL:https://business.dewittiowa.org/events/details/adult-coloring-03-07-2017-1748
END:VEVENT

END:VCALENDAR
