BEGIN:VCALENDAR
VERSION:2.0
PRODID:-//ChamberMaster//Event Calendar 2.0//EN
METHOD:PUBLISH
X-PUBLISHED-TTL:P3D
REFRESH-INTERVAL:P3D
CALSCALE:GREGORIAN
BEGIN:VEVENT
DTSTART:20170313T230000Z
DTEND:20170314T010000Z
X-MICROSOFT-CDO-ALLDAYEVENT:FALSE
SUMMARY:Adult Coloring
DESCRIPTION:Adult coloring time at your library is free with all materials and snacks provided. Come join the fun! No reservations necessary. Adults only\, please.
X-ALT-DESC;FMTTYPE=text/html:Adult coloring time at your library is free with all materials and snacks provided. Come join the fun! No reservations necessary. Adults only\, please.
LOCATION:Frances Banta Waggoner Community Library 505 10th St. DeWitt
UID:e.1774.1747
SEQUENCE:3
DTSTAMP:20260419T221357Z
URL:https://business.dewittiowa.org/events/details/adult-coloring-03-13-2017-1747
END:VEVENT

END:VCALENDAR
