BEGIN:VCALENDAR
VERSION:2.0
PRODID:-//ChamberMaster//Event Calendar 2.0//EN
METHOD:PUBLISH
X-PUBLISHED-TTL:P3D
REFRESH-INTERVAL:P3D
CALSCALE:GREGORIAN
BEGIN:VEVENT
DTSTART:20170321T150000Z
DTEND:20170321T170000Z
X-MICROSOFT-CDO-ALLDAYEVENT:FALSE
SUMMARY:Adult Coloring
DESCRIPTION:Relaxation and creativity are free in the adult coloring group at your library. All materials and snacks are provided and no reservations are necessary. Adults only\, please.
X-ALT-DESC;FMTTYPE=text/html:Relaxation and creativity are free in the adult coloring group at your library. All materials and snacks are provided and no reservations are necessary. Adults only\, please.
LOCATION:Frances Banta Waggoner Community Library 505 10th St DeWitt
UID:e.1774.1749
SEQUENCE:3
DTSTAMP:20260419T221228Z
URL:https://business.dewittiowa.org/events/details/adult-coloring-03-21-2017-1749
END:VEVENT

END:VCALENDAR
