BEGIN:VCALENDAR
VERSION:2.0
PRODID:-//ChamberMaster//Event Calendar 2.0//EN
METHOD:PUBLISH
X-PUBLISHED-TTL:P3D
REFRESH-INTERVAL:P3D
CALSCALE:GREGORIAN
BEGIN:VEVENT
DTSTART:20170410T230000Z
DTEND:20170411T010000Z
X-MICROSOFT-CDO-ALLDAYEVENT:FALSE
SUMMARY:Adult Coloring
DESCRIPTION:Spend some quality time at your library enjoying adult coloring. All materials and snacks are provided and reservations are not required. Adults only\, please.
X-ALT-DESC;FMTTYPE=text/html:Spend some quality time at your library enjoying adult coloring. All materials and snacks are provided and reservations are not required. Adults only\, please.
LOCATION:Frances Banta Waggoner Community Library 505 10th St. DeWitt
UID:e.1774.1754
SEQUENCE:3
DTSTAMP:20260419T220359Z
URL:https://business.dewittiowa.org/events/details/adult-coloring-04-10-2017-1754
END:VEVENT

END:VCALENDAR
