BEGIN:VCALENDAR
VERSION:2.0
PRODID:-//ChamberMaster//Event Calendar 2.0//EN
METHOD:PUBLISH
X-PUBLISHED-TTL:P3D
REFRESH-INTERVAL:P3D
CALSCALE:GREGORIAN
BEGIN:VEVENT
DTSTART:20160418T230000Z
DTEND:20160419T010000Z
X-MICROSOFT-CDO-ALLDAYEVENT:FALSE
SUMMARY:Adult Coloring
DESCRIPTION:Join in the fun of adult coloring in the library's meeting room. We will provide coloring sheets and coloring materials along with light refreshments. No reservations are necessary for this free event and it is for adults only please.
X-ALT-DESC;FMTTYPE=text/html:Join in the fun of adult coloring in the library&#39\;s meeting room. We will provide coloring sheets and coloring materials along with light refreshments. No reservations are necessary for this free event and it is for adults only please.
LOCATION:Frances Banta Waggoner Community Library 505 10th St. DeWitt IA
UID:e.1774.1283
SEQUENCE:3
DTSTAMP:20260420T152713Z
URL:https://business.dewittiowa.org/events/details/adult-coloring-04-18-2016-1283
END:VEVENT

END:VCALENDAR
