BEGIN:VCALENDAR
VERSION:2.0
PRODID:-//ChamberMaster//Event Calendar 2.0//EN
METHOD:PUBLISH
X-PUBLISHED-TTL:P3D
REFRESH-INTERVAL:P3D
CALSCALE:GREGORIAN
BEGIN:VEVENT
DTSTART:20170418T150000Z
DTEND:20170418T170000Z
X-MICROSOFT-CDO-ALLDAYEVENT:FALSE
SUMMARY:Adult Coloring
DESCRIPTION:All materials and snacks are provided for this adult coloring event. Join the fun in the library's meeting room. No reservations are necessary. Adults only\, please.
X-ALT-DESC;FMTTYPE=text/html:All materials and snacks are provided for this adult coloring event. Join the fun in the library&#39\;s meeting room. No reservations are necessary. Adults only\, please.
LOCATION:Frances Banta Waggoner Community Library 505 10th St. DeWitt
UID:e.1774.1751
SEQUENCE:3
DTSTAMP:20260419T201955Z
URL:https://business.dewittiowa.org/events/details/adult-coloring-04-18-2017-1751
END:VEVENT

END:VCALENDAR
