BEGIN:VCALENDAR
VERSION:2.0
PRODID:-//ChamberMaster//Event Calendar 2.0//EN
METHOD:PUBLISH
X-PUBLISHED-TTL:P3D
REFRESH-INTERVAL:P3D
CALSCALE:GREGORIAN
BEGIN:VEVENT
DTSTART:20170502T150000Z
DTEND:20170502T170000Z
X-MICROSOFT-CDO-ALLDAYEVENT:FALSE
SUMMARY:Adult Coloring
DESCRIPTION:Join the adult coloring fun! All materials and snacks are provided and no reservations are required. Adults only\, please.
X-ALT-DESC;FMTTYPE=text/html:Join the adult coloring fun! All materials and snacks are provided and no reservations are required. Adults only\, please.
LOCATION:Frances Banta Waggoner Community Library 505 10th St. DeWitt
UID:e.1774.1752
SEQUENCE:3
DTSTAMP:20260419T183719Z
URL:https://business.dewittiowa.org/events/details/adult-coloring-05-02-2017-1752
END:VEVENT

END:VCALENDAR
