BEGIN:VCALENDAR
VERSION:2.0
PRODID:-//ChamberMaster//Event Calendar 2.0//EN
METHOD:PUBLISH
X-PUBLISHED-TTL:P3D
REFRESH-INTERVAL:P3D
CALSCALE:GREGORIAN
BEGIN:VEVENT
DTSTART:20170508T230000Z
DTEND:20170509T010000Z
X-MICROSOFT-CDO-ALLDAYEVENT:FALSE
SUMMARY:Adult Coloring
DESCRIPTION:All materials and snacks are provided for this event. No reservations are necessary. Adults only\, please.
X-ALT-DESC;FMTTYPE=text/html:All materials and snacks are provided for this event. No reservations are necessary. Adults only\, please.
LOCATION:Frances Banta Waggoner Community Library 505 10th St. DeWitt
UID:e.1774.1755
SEQUENCE:3
DTSTAMP:20260419T183628Z
URL:https://business.dewittiowa.org/events/details/adult-coloring-05-08-2017-1755
END:VEVENT

END:VCALENDAR
