BEGIN:VCALENDAR
VERSION:2.0
PRODID:-//ChamberMaster//Event Calendar 2.0//EN
METHOD:PUBLISH
X-PUBLISHED-TTL:P3D
REFRESH-INTERVAL:P3D
CALSCALE:GREGORIAN
BEGIN:VEVENT
DTSTART:20160516T230000Z
DTEND:20160517T010000Z
X-MICROSOFT-CDO-ALLDAYEVENT:FALSE
SUMMARY:Adult Coloring
DESCRIPTION:Adult coloring helps you relax and gives you the opportunity to show off your artistic skills. We will provide coloring sheets\, pens\, pencils and markers as well as light refreshments. No reservations are required for this free event\, which is for adults only please.
X-ALT-DESC;FMTTYPE=text/html:Adult coloring helps you relax and gives you the opportunity to show off your artistic skills. We will provide coloring sheets\, pens\, pencils and markers as well as light refreshments. No reservations are required for this free event\, which is for adults only please.
LOCATION:Frances Banta Waggoner Community Library 505 10th St. DeWitt IA
UID:e.1774.1284
SEQUENCE:3
DTSTAMP:20260420T152800Z
URL:https://business.dewittiowa.org/events/details/adult-coloring-05-16-2016-1284
END:VEVENT

END:VCALENDAR
