BEGIN:VCALENDAR
VERSION:2.0
PRODID:-//ChamberMaster//Event Calendar 2.0//EN
METHOD:PUBLISH
X-PUBLISHED-TTL:P3D
REFRESH-INTERVAL:P3D
CALSCALE:GREGORIAN
BEGIN:VEVENT
DTSTART:20161004T150000Z
DTEND:20161004T170000Z
X-MICROSOFT-CDO-ALLDAYEVENT:FALSE
SUMMARY:Adult Coloring
DESCRIPTION:Join in the adult coloring craze at no expense! We provide all materials and snacks as well!
X-ALT-DESC;FMTTYPE=text/html:Join in the adult coloring craze at no expense! We provide all materials and snacks as well!
LOCATION:Library Meeting Room 505 10th St. DeWitt
UID:e.1774.1545
SEQUENCE:3
DTSTAMP:20260420T061217Z
URL:https://business.dewittiowa.org/events/details/adult-coloring-10-04-2016-1545
END:VEVENT

END:VCALENDAR
