BEGIN:VCALENDAR
VERSION:2.0
PRODID:-//ChamberMaster//Event Calendar 2.0//EN
METHOD:PUBLISH
X-PUBLISHED-TTL:P3D
REFRESH-INTERVAL:P3D
CALSCALE:GREGORIAN
BEGIN:VEVENT
DTSTART:20161018T150000Z
DTEND:20161018T170000Z
X-MICROSOFT-CDO-ALLDAYEVENT:FALSE
SUMMARY:Adult Coloring
DESCRIPTION:We provide the materials and refreshments--you provide the talent! Please come and join us!
X-ALT-DESC;FMTTYPE=text/html:We provide the materials and refreshments--you provide the talent! Please come and join us!
LOCATION:Library Meeting Room 505 10th St. DeWitt
UID:e.1774.1546
SEQUENCE:3
DTSTAMP:20260420T061346Z
URL:https://business.dewittiowa.org/events/details/adult-coloring-10-18-2016-1546
END:VEVENT

END:VCALENDAR
