BEGIN:VCALENDAR
VERSION:2.0
PRODID:-//ChamberMaster//Event Calendar 2.0//EN
METHOD:PUBLISH
X-PUBLISHED-TTL:P3D
REFRESH-INTERVAL:P3D
CALSCALE:GREGORIAN
BEGIN:VEVENT
DTSTART:20161101T150000Z
DTEND:20161101T170000Z
X-MICROSOFT-CDO-ALLDAYEVENT:FALSE
SUMMARY:Adult Coloring
DESCRIPTION:Whatever your artistic talent\, adult coloring is for everyone! Come join us at the library and give it a try. All materials and refreshments are provided.
X-ALT-DESC;FMTTYPE=text/html:Whatever your artistic talent\, adult coloring is for everyone! Come join us at the library and give it a try. All materials and refreshments are provided.
LOCATION:Library Meeting Room 505 10th St. DeWitt
UID:e.1774.1547
SEQUENCE:3
DTSTAMP:20260420T061346Z
URL:https://business.dewittiowa.org/events/details/adult-coloring-11-01-2016-1547
END:VEVENT

END:VCALENDAR
