BEGIN:VCALENDAR
VERSION:2.0
PRODID:-//ChamberMaster//Event Calendar 2.0//EN
METHOD:PUBLISH
X-PUBLISHED-TTL:P3D
REFRESH-INTERVAL:P3D
CALSCALE:GREGORIAN
BEGIN:VEVENT
DTSTART:20161115T160000Z
DTEND:20161115T180000Z
X-MICROSOFT-CDO-ALLDAYEVENT:FALSE
SUMMARY:Adult Coloring
DESCRIPTION:Adult coloring is the latest thing! Join us at the library for some artistic fun and relaxation. All materials are provided and that includes refreshments!
X-ALT-DESC;FMTTYPE=text/html:Adult coloring is the latest thing! Join us at the library for some artistic fun and relaxation. All materials are provided and that includes refreshments!
LOCATION:Library Meeting Room 505 10th St. DeWitt
UID:e.1774.1548
SEQUENCE:3
DTSTAMP:20260420T043309Z
URL:https://business.dewittiowa.org/events/details/adult-coloring-11-15-2016-1548
END:VEVENT

END:VCALENDAR
