BEGIN:VCALENDAR
VERSION:2.0
PRODID:-//ChamberMaster//Event Calendar 2.0//EN
METHOD:PUBLISH
X-PUBLISHED-TTL:P3D
REFRESH-INTERVAL:P3D
CALSCALE:GREGORIAN
BEGIN:VEVENT
DTSTART:20161206T160000Z
DTEND:20161206T180000Z
X-MICROSOFT-CDO-ALLDAYEVENT:FALSE
SUMMARY:Adult Coloring
DESCRIPTION:Please join us at the library for the last coloring event of 2016! All coloring materials\, including some Christmas coloring sheets\, are provided. Light refreshments are also available. No reservations required.
X-ALT-DESC;FMTTYPE=text/html:Please join us at the library for the last coloring event of 2016! All coloring materials\, including some Christmas coloring sheets\, are provided. Light refreshments are also available. No reservations required.
LOCATION:Frances Banta Waggoner Community Library 505 10th St. DeWitt IA 52742
UID:e.1774.1719
SEQUENCE:3
DTSTAMP:20260420T030313Z
URL:https://business.dewittiowa.org/events/details/adult-coloring-12-06-2016-1719
END:VEVENT

END:VCALENDAR
