BEGIN:VCALENDAR
VERSION:2.0
PRODID:-//ChamberMaster//Event Calendar 2.0//EN
METHOD:PUBLISH
X-PUBLISHED-TTL:P3D
REFRESH-INTERVAL:P3D
CALSCALE:GREGORIAN
BEGIN:VEVENT
DTSTART:20161024T230000Z
DTEND:20161025T010000Z
X-MICROSOFT-CDO-ALLDAYEVENT:FALSE
SUMMARY:Adult Coloring Evening
DESCRIPTION:Join in the relaxing world of adult coloring. All materials and refreshments are provided.
X-ALT-DESC;FMTTYPE=text/html:Join in the relaxing world of adult coloring. All materials and refreshments are provided.
LOCATION:Library Meeting Room 505 10th St. DeWitt
UID:e.1774.1550
SEQUENCE:3
DTSTAMP:20260420T061134Z
URL:https://business.dewittiowa.org/events/details/adult-coloring-evening-1550
END:VEVENT

END:VCALENDAR
