BEGIN:VCALENDAR
VERSION:2.0
PRODID:-//ChamberMaster//Event Calendar 2.0//EN
METHOD:PUBLISH
X-PUBLISHED-TTL:P3D
REFRESH-INTERVAL:P3D
CALSCALE:GREGORIAN
BEGIN:VEVENT
DTSTART:20160919T230000Z
DTEND:20160920T010000Z
X-MICROSOFT-CDO-ALLDAYEVENT:FALSE
SUMMARY:Adult Coloring Evenings
DESCRIPTION:We will provide all materials for your coloring enjoyment! Snacks will also be provided.
X-ALT-DESC;FMTTYPE=text/html:We will provide all materials for your coloring enjoyment! Snacks will also be provided.
LOCATION:Library Meeting Room 505 10th St. DeWitt
UID:e.1774.1549
SEQUENCE:3
DTSTAMP:20260420T073949Z
URL:https://business.dewittiowa.org/events/details/adult-coloring-evenings-1549
END:VEVENT

END:VCALENDAR
