BEGIN:VCALENDAR
VERSION:2.0
PRODID:-//ChamberMaster//Event Calendar 2.0//EN
METHOD:PUBLISH
X-PUBLISHED-TTL:P3D
REFRESH-INTERVAL:P3D
CALSCALE:GREGORIAN
BEGIN:VEVENT
DTSTART:20170328T150000Z
DTEND:20170328T173000Z
X-MICROSOFT-CDO-ALLDAYEVENT:FALSE
SUMMARY:Agriculture at the Crossroads
DESCRIPTION:First Central State Bank and Maquoketa State Bank Cordially Invite you to \n\nAgriculture at the Crossroads
X-ALT-DESC;FMTTYPE=text/html:First Central State Bank and Maquoketa State Bank Cordially Invite you to&nbsp\;<br />\nAgriculture at the Crossroads
LOCATION:Tycoga Winery Highway 61 at 196th Street DeWitt\, IA
UID:e.1774.1882
SEQUENCE:3
DTSTAMP:20260419T221355Z
URL:https://business.dewittiowa.org/events/details/agriculture-at-the-crossroads-1882
END:VEVENT

END:VCALENDAR
