BEGIN:VCALENDAR
VERSION:2.0
PRODID:-//ChamberMaster//Event Calendar 2.0//EN
METHOD:PUBLISH
X-PUBLISHED-TTL:P3D
REFRESH-INTERVAL:P3D
CALSCALE:GREGORIAN
BEGIN:VEVENT
DTSTART:20151122T140000Z
DTEND:20151122T180000Z
X-MICROSOFT-CDO-ALLDAYEVENT:FALSE
SUMMARY:American Legion Pancake Breakfast & Auxiliary Bake Sale
DESCRIPTION:
X-ALT-DESC;FMTTYPE=text/html:
LOCATION:
UID:e.1774.1096
SEQUENCE:3
DTSTAMP:20260421T013144Z
URL:https://business.dewittiowa.org/events/details/american-legion-pancake-breakfast-auxiliary-bake-sale-11-22-2015-1096
END:VEVENT

END:VCALENDAR
