BEGIN:VCALENDAR
VERSION:2.0
PRODID:-//ChamberMaster//Event Calendar 2.0//EN
METHOD:PUBLISH
X-PUBLISHED-TTL:P3D
REFRESH-INTERVAL:P3D
CALSCALE:GREGORIAN
BEGIN:VEVENT
DTSTART:20140427T130000Z
DTEND:20140427T170000Z
X-MICROSOFT-CDO-ALLDAYEVENT:FALSE
SUMMARY:American Legion Post #238 Pancake Breakfast
DESCRIPTION:Proceeds go to the DeWitt Veteran's Memorial
X-ALT-DESC;FMTTYPE=text/html:Proceeds go to the DeWitt Veteran&#39\;s Memorial
LOCATION:American Legion Hall 704 9th St. DeWitt\, Iowa
UID:e.1774.33
SEQUENCE:3
DTSTAMP:20260422T055252Z
URL:https://business.dewittiowa.org/events/details/american-legion-post-238-pancake-breakfast-04-27-2014-33
END:VEVENT

END:VCALENDAR
