BEGIN:VCALENDAR
VERSION:2.0
PRODID:-//ChamberMaster//Event Calendar 2.0//EN
METHOD:PUBLISH
X-PUBLISHED-TTL:P3D
REFRESH-INTERVAL:P3D
CALSCALE:GREGORIAN
BEGIN:VEVENT
DTSTART:20161120T140000Z
DTEND:20161120T180000Z
X-MICROSOFT-CDO-ALLDAYEVENT:FALSE
SUMMARY:American Legion Post #238 Pancake Breakfast & Auxiliary Bake Sale
DESCRIPTION:Serving from 8AM - Noon.\n\nAuxiliary Bake Sale in Bar Room
X-ALT-DESC;FMTTYPE=text/html:Serving from 8AM - Noon.<br />\nAuxiliary Bake Sale in Bar Room
LOCATION:American Legion Hall 704 9th St. DeWitt\, IA
UID:e.1774.1683
SEQUENCE:3
DTSTAMP:20260420T061453Z
URL:https://business.dewittiowa.org/events/details/american-legion-post-238-pancake-breakfast-auxiliary-bake-sale-1683
END:VEVENT

END:VCALENDAR
