BEGIN:VCALENDAR
VERSION:2.0
PRODID:-//ChamberMaster//Event Calendar 2.0//EN
METHOD:PUBLISH
X-PUBLISHED-TTL:P3D
REFRESH-INTERVAL:P3D
CALSCALE:GREGORIAN
BEGIN:VEVENT
DTSTART:20150503T210000Z
DTEND:20150504T000000Z
X-MICROSOFT-CDO-ALLDAYEVENT:FALSE
SUMMARY:Annual Beef Dinner
DESCRIPTION:Annual beef dinner with beef by Buzzy's\, mashed potatoes and gravy\, green beans\, roll\, coleslaw or applesauce and homemade pies and desserts. Dine in\, carry out\, or delivery to shut-ins.
X-ALT-DESC;FMTTYPE=text/html:Annual beef dinner with beef by Buzzy&#39\;s\, mashed potatoes and gravy\, green beans\, roll\, coleslaw or applesauce and homemade pies and desserts. Dine in\, carry out\, or delivery to shut-ins.
LOCATION:First Congregational United Church of Christ\, 520 E. 11th St.\, DeWitt
UID:e.1774.351
SEQUENCE:3
DTSTAMP:20260421T093909Z
URL:https://business.dewittiowa.org/events/details/annual-beef-dinner-05-03-2015-351
END:VEVENT

END:VCALENDAR
